BEGIN:VCALENDAR
VERSION:2.0
PRODID:-//Digital Transactions - ECPv6.15.18//NONSGML v1.0//EN
CALSCALE:GREGORIAN
METHOD:PUBLISH
X-ORIGINAL-URL:https://www.digitaltransactions.net
X-WR-CALDESC:Events for Digital Transactions
REFRESH-INTERVAL;VALUE=DURATION:PT1H
X-Robots-Tag:noindex
X-PUBLISHED-TTL:PT1H
BEGIN:VTIMEZONE
TZID:America/Chicago
BEGIN:DAYLIGHT
TZOFFSETFROM:-0600
TZOFFSETTO:-0500
TZNAME:CDT
DTSTART:20240310T080000
END:DAYLIGHT
BEGIN:STANDARD
TZOFFSETFROM:-0500
TZOFFSETTO:-0600
TZNAME:CST
DTSTART:20241103T070000
END:STANDARD
BEGIN:DAYLIGHT
TZOFFSETFROM:-0600
TZOFFSETTO:-0500
TZNAME:CDT
DTSTART:20250309T080000
END:DAYLIGHT
BEGIN:STANDARD
TZOFFSETFROM:-0500
TZOFFSETTO:-0600
TZNAME:CST
DTSTART:20251102T070000
END:STANDARD
BEGIN:DAYLIGHT
TZOFFSETFROM:-0600
TZOFFSETTO:-0500
TZNAME:CDT
DTSTART:20260308T080000
END:DAYLIGHT
BEGIN:STANDARD
TZOFFSETFROM:-0500
TZOFFSETTO:-0600
TZNAME:CST
DTSTART:20261101T070000
END:STANDARD
END:VTIMEZONE
BEGIN:VEVENT
DTSTART;VALUE=DATE:20251104
DTEND;VALUE=DATE:20251106
DTSTAMP:20260419T071333
CREATED:20250917T142146Z
LAST-MODIFIED:20250917T142146Z
UID:1330317-1762214400-1762387199@www.digitaltransactions.net
SUMMARY:PayTech Women 2025 Leadership Summit
DESCRIPTION:
URL:https://www.digitaltransactions.net/event/paytech-women-2025-leadership-summit/
LOCATION:Renaissance Atlanta Waverly Hotel\, 2450 Galleria Parkway\, Atlanta\, Georgia\, 30339
END:VEVENT
BEGIN:VEVENT
DTSTART;VALUE=DATE:20251112
DTEND;VALUE=DATE:20251115
DTSTAMP:20260419T071333
CREATED:20251002T152223Z
LAST-MODIFIED:20251002T152223Z
UID:1330548-1762905600-1763164799@www.digitaltransactions.net
SUMMARY:Power Conference 2025
DESCRIPTION:
URL:https://www.digitaltransactions.net/event/power-conference-2025/
LOCATION:Diplomat Beach Resort Hotel\, 3555 S Ocean Dr\, Hollywood\, Florida\, 33019
END:VEVENT
END:VCALENDAR