BEGIN:VCALENDAR
VERSION:2.0
PRODID:-//Digital Transactions - ECPv6.15.18//NONSGML v1.0//EN
CALSCALE:GREGORIAN
METHOD:PUBLISH
X-WR-CALNAME:Digital Transactions
X-ORIGINAL-URL:https://www.digitaltransactions.net
X-WR-CALDESC:Events for Digital Transactions
REFRESH-INTERVAL;VALUE=DURATION:PT1H
X-Robots-Tag:noindex
X-PUBLISHED-TTL:PT1H
BEGIN:VTIMEZONE
TZID:America/Chicago
BEGIN:DAYLIGHT
TZOFFSETFROM:-0600
TZOFFSETTO:-0500
TZNAME:CDT
DTSTART:20210314T080000
END:DAYLIGHT
BEGIN:STANDARD
TZOFFSETFROM:-0500
TZOFFSETTO:-0600
TZNAME:CST
DTSTART:20211107T070000
END:STANDARD
BEGIN:DAYLIGHT
TZOFFSETFROM:-0600
TZOFFSETTO:-0500
TZNAME:CDT
DTSTART:20220313T080000
END:DAYLIGHT
BEGIN:STANDARD
TZOFFSETFROM:-0500
TZOFFSETTO:-0600
TZNAME:CST
DTSTART:20221106T070000
END:STANDARD
BEGIN:DAYLIGHT
TZOFFSETFROM:-0600
TZOFFSETTO:-0500
TZNAME:CDT
DTSTART:20230312T080000
END:DAYLIGHT
BEGIN:STANDARD
TZOFFSETFROM:-0500
TZOFFSETTO:-0600
TZNAME:CST
DTSTART:20231105T070000
END:STANDARD
END:VTIMEZONE
BEGIN:VEVENT
DTSTART;VALUE=DATE:20220724
DTEND;VALUE=DATE:20220727
DTSTAMP:20260419T172905
CREATED:20211206T171325Z
LAST-MODIFIED:20211206T171614Z
UID:42031-1658620800-1658879999@www.digitaltransactions.net
SUMMARY:RetailNOW 2022
DESCRIPTION:RetailNOW® is the retail IT channel’s #1 trade show\, education conference\, and networking event. This event brings industry leaders\, innovators\, and channel players together to develop relationships necessary for any successful business. The diversity of attendees and exhibitors allows for the very best in education\, thought leadership\, and product availability paramount to the strength and growth of the industry. It is where the industry meets.
URL:https://www.digitaltransactions.net/event/retailnow-2022/
LOCATION:Gaylord Palms Resort & Convention Center\, Orlando\, FL\, United States
END:VEVENT
BEGIN:VEVENT
DTSTART;VALUE=DATE:20220727
DTEND;VALUE=DATE:20220729
DTSTAMP:20260419T172905
CREATED:20211222T213030Z
LAST-MODIFIED:20211222T213030Z
UID:42222-1658880000-1659052799@www.digitaltransactions.net
SUMMARY:MWAA 2022 CONFERENCE
DESCRIPTION:
URL:https://www.digitaltransactions.net/event/mwaa-2022-conference/
LOCATION:Chicago Marriott Downtown Magnificent Mile
END:VEVENT
END:VCALENDAR