BEGIN:VCALENDAR
VERSION:2.0
PRODID:-//Digital Transactions - ECPv6.15.18//NONSGML v1.0//EN
CALSCALE:GREGORIAN
METHOD:PUBLISH
X-ORIGINAL-URL:https://www.digitaltransactions.net
X-WR-CALDESC:Events for Digital Transactions
REFRESH-INTERVAL;VALUE=DURATION:PT1H
X-Robots-Tag:noindex
X-PUBLISHED-TTL:PT1H
BEGIN:VTIMEZONE
TZID:America/Chicago
BEGIN:DAYLIGHT
TZOFFSETFROM:-0600
TZOFFSETTO:-0500
TZNAME:CDT
DTSTART:20200308T080000
END:DAYLIGHT
BEGIN:STANDARD
TZOFFSETFROM:-0500
TZOFFSETTO:-0600
TZNAME:CST
DTSTART:20201101T070000
END:STANDARD
BEGIN:DAYLIGHT
TZOFFSETFROM:-0600
TZOFFSETTO:-0500
TZNAME:CDT
DTSTART:20210314T080000
END:DAYLIGHT
BEGIN:STANDARD
TZOFFSETFROM:-0500
TZOFFSETTO:-0600
TZNAME:CST
DTSTART:20211107T070000
END:STANDARD
BEGIN:DAYLIGHT
TZOFFSETFROM:-0600
TZOFFSETTO:-0500
TZNAME:CDT
DTSTART:20220313T080000
END:DAYLIGHT
BEGIN:STANDARD
TZOFFSETFROM:-0500
TZOFFSETTO:-0600
TZNAME:CST
DTSTART:20221106T070000
END:STANDARD
END:VTIMEZONE
BEGIN:VTIMEZONE
TZID:America/New_York
BEGIN:DAYLIGHT
TZOFFSETFROM:-0500
TZOFFSETTO:-0400
TZNAME:EDT
DTSTART:20200308T070000
END:DAYLIGHT
BEGIN:STANDARD
TZOFFSETFROM:-0400
TZOFFSETTO:-0500
TZNAME:EST
DTSTART:20201101T060000
END:STANDARD
BEGIN:DAYLIGHT
TZOFFSETFROM:-0500
TZOFFSETTO:-0400
TZNAME:EDT
DTSTART:20210314T070000
END:DAYLIGHT
BEGIN:STANDARD
TZOFFSETFROM:-0400
TZOFFSETTO:-0500
TZNAME:EST
DTSTART:20211107T060000
END:STANDARD
BEGIN:DAYLIGHT
TZOFFSETFROM:-0500
TZOFFSETTO:-0400
TZNAME:EDT
DTSTART:20220313T070000
END:DAYLIGHT
BEGIN:STANDARD
TZOFFSETFROM:-0400
TZOFFSETTO:-0500
TZNAME:EST
DTSTART:20221106T060000
END:STANDARD
END:VTIMEZONE
BEGIN:VEVENT
DTSTART;TZID=America/Chicago:20210520T090000
DTEND;TZID=America/Chicago:20210520T160000
DTSTAMP:20260422T054647
CREATED:20210413T213521Z
LAST-MODIFIED:20210413T213521Z
UID:38332-1621501200-1621526400@www.digitaltransactions.net
SUMMARY:ePay’s Financial Crimes Symposium
DESCRIPTION:  \nePay’s Financial Crimes Symposium Virtual on 5/20/2021 is a dynamic\, solution-based learning and networking opportunity for anyone concerned about fraud prevention and mitigation! Take insights back to your institution and use to prevent loss!
URL:https://www.digitaltransactions.net/event/epays-financial-crimes-symposium/
END:VEVENT
BEGIN:VEVENT
DTSTART;VALUE=DATE:20210524
DTEND;VALUE=DATE:20210527
DTSTAMP:20260422T054647
CREATED:20201110T191724Z
LAST-MODIFIED:20201110T220335Z
UID:36793-1621814400-1622073599@www.digitaltransactions.net
SUMMARY:Southeast Acquirers Association Annual
DESCRIPTION:
URL:https://www.digitaltransactions.net/event/southeast-acquirers-association-annual/
LOCATION:Hyatt Regency Coconut Point\, Bonita Springs\, FL\, United States
END:VEVENT
BEGIN:VEVENT
DTSTART;TZID=America/New_York:20210525T113000
DTEND;TZID=America/New_York:20210525T170000
DTSTAMP:20260422T054647
CREATED:20210415T205419Z
LAST-MODIFIED:20210415T205419Z
UID:38360-1621942200-1621962000@www.digitaltransactions.net
SUMMARY:Wnet’s PayTechWomenLive Focuses on Building Careers and Advancing Women in PayTech
DESCRIPTION:PayTechWomenLive features global leader Samantha (Sam) Saperstein\, JPMorgan Chase\, sharing strategies to help women advance their careers and the quality of their lives. Breakouts will be moderated by leaders in paytech. Register: paytechwomenlive.org. \n 
URL:https://www.digitaltransactions.net/event/wnets-paytechwomenlive-focuses-on-building-careers-and-advancing-women-in-paytech/
END:VEVENT
BEGIN:VEVENT
DTSTART;VALUE=DATE:20210531
DTEND;VALUE=DATE:20210605
DTSTAMP:20260422T054647
CREATED:20201109T231855Z
LAST-MODIFIED:20201109T231855Z
UID:36778-1622419200-1622851199@www.digitaltransactions.net
SUMMARY:The 2021 Payments Canada SUMMIT
DESCRIPTION:The 2021 Payments Canada SUMMIT will do exactly that\, with some notable differences. The biggest being it will be a virtual event\, over five half-days. What remains is our outstanding content\, a combination of keynote speakers and breakout sessions\, networking opportunities and an exhibit hall. \nMark your calendars: The SUMMIT: May 31 – June 4\, 2021
URL:https://www.digitaltransactions.net/event/the-2021-payments-canada-summit/
END:VEVENT
END:VCALENDAR