BEGIN:VCALENDAR
VERSION:2.0
PRODID:-//Digital Transactions - ECPv6.15.18//NONSGML v1.0//EN
CALSCALE:GREGORIAN
METHOD:PUBLISH
X-ORIGINAL-URL:https://www.digitaltransactions.net
X-WR-CALDESC:Events for Digital Transactions
REFRESH-INTERVAL;VALUE=DURATION:PT1H
X-Robots-Tag:noindex
X-PUBLISHED-TTL:PT1H
BEGIN:VTIMEZONE
TZID:America/New_York
BEGIN:DAYLIGHT
TZOFFSETFROM:-0500
TZOFFSETTO:-0400
TZNAME:EDT
DTSTART:20190310T070000
END:DAYLIGHT
BEGIN:STANDARD
TZOFFSETFROM:-0400
TZOFFSETTO:-0500
TZNAME:EST
DTSTART:20191103T060000
END:STANDARD
BEGIN:DAYLIGHT
TZOFFSETFROM:-0500
TZOFFSETTO:-0400
TZNAME:EDT
DTSTART:20200308T070000
END:DAYLIGHT
BEGIN:STANDARD
TZOFFSETFROM:-0400
TZOFFSETTO:-0500
TZNAME:EST
DTSTART:20201101T060000
END:STANDARD
BEGIN:DAYLIGHT
TZOFFSETFROM:-0500
TZOFFSETTO:-0400
TZNAME:EDT
DTSTART:20210314T070000
END:DAYLIGHT
BEGIN:STANDARD
TZOFFSETFROM:-0400
TZOFFSETTO:-0500
TZNAME:EST
DTSTART:20211107T060000
END:STANDARD
END:VTIMEZONE
BEGIN:VTIMEZONE
TZID:America/Chicago
BEGIN:DAYLIGHT
TZOFFSETFROM:-0600
TZOFFSETTO:-0500
TZNAME:CDT
DTSTART:20190310T080000
END:DAYLIGHT
BEGIN:STANDARD
TZOFFSETFROM:-0500
TZOFFSETTO:-0600
TZNAME:CST
DTSTART:20191103T070000
END:STANDARD
BEGIN:DAYLIGHT
TZOFFSETFROM:-0600
TZOFFSETTO:-0500
TZNAME:CDT
DTSTART:20200308T080000
END:DAYLIGHT
BEGIN:STANDARD
TZOFFSETFROM:-0500
TZOFFSETTO:-0600
TZNAME:CST
DTSTART:20201101T070000
END:STANDARD
BEGIN:DAYLIGHT
TZOFFSETFROM:-0600
TZOFFSETTO:-0500
TZNAME:CDT
DTSTART:20210314T080000
END:DAYLIGHT
BEGIN:STANDARD
TZOFFSETFROM:-0500
TZOFFSETTO:-0600
TZNAME:CST
DTSTART:20211107T070000
END:STANDARD
END:VTIMEZONE
BEGIN:VEVENT
DTSTART;TZID=America/New_York:20201203T140000
DTEND;TZID=America/New_York:20201203T150000
DTSTAMP:20260425T115733
CREATED:20201123T164703Z
LAST-MODIFIED:20201123T164806Z
UID:36921-1607004000-1607007600@www.digitaltransactions.net
SUMMARY:Delivering What the Market Demands
DESCRIPTION:Join ScanSource and Ingenico to understand the role smart payments devices can play in your IT solution offering. They will discuss modern payments hardware\, how to expand your value with payments\, what to look for when choosing strategic payment partners\, valued solution provider\, and more on their value added offerings!
URL:https://www.digitaltransactions.net/event/delivering-what-the-market-demands/
END:VEVENT
BEGIN:VEVENT
DTSTART;VALUE=DATE:20201208
DTEND;VALUE=DATE:20201211
DTSTAMP:20260425T115733
CREATED:20200825T205434Z
LAST-MODIFIED:20200825T205434Z
UID:34711-1607385600-1607644799@www.digitaltransactions.net
SUMMARY:PAXCON
DESCRIPTION:
URL:https://www.digitaltransactions.net/event/paxcon/
END:VEVENT
END:VCALENDAR